BEGIN:VCALENDAR
VERSION:2.0
PRODID:-//Table View Baptist Church - ECPv6.15.20//NONSGML v1.0//EN
CALSCALE:GREGORIAN
METHOD:PUBLISH
X-ORIGINAL-URL:http://www.tableviewbaptist.co.za
X-WR-CALDESC:Events for Table View Baptist Church
REFRESH-INTERVAL;VALUE=DURATION:PT1H
X-Robots-Tag:noindex
X-PUBLISHED-TTL:PT1H
BEGIN:VTIMEZONE
TZID:Europe/Helsinki
BEGIN:DAYLIGHT
TZOFFSETFROM:+0200
TZOFFSETTO:+0300
TZNAME:EEST
DTSTART:20250330T010000
END:DAYLIGHT
BEGIN:STANDARD
TZOFFSETFROM:+0300
TZOFFSETTO:+0200
TZNAME:EET
DTSTART:20251026T010000
END:STANDARD
BEGIN:DAYLIGHT
TZOFFSETFROM:+0200
TZOFFSETTO:+0300
TZNAME:EEST
DTSTART:20260329T010000
END:DAYLIGHT
BEGIN:STANDARD
TZOFFSETFROM:+0300
TZOFFSETTO:+0200
TZNAME:EET
DTSTART:20261025T010000
END:STANDARD
BEGIN:DAYLIGHT
TZOFFSETFROM:+0200
TZOFFSETTO:+0300
TZNAME:EEST
DTSTART:20270328T010000
END:DAYLIGHT
BEGIN:STANDARD
TZOFFSETFROM:+0300
TZOFFSETTO:+0200
TZNAME:EET
DTSTART:20271031T010000
END:STANDARD
END:VTIMEZONE
BEGIN:VEVENT
DTSTART;TZID=Europe/Helsinki:20260209T084500
DTEND;TZID=Europe/Helsinki:20260209T100000
DTSTAMP:20260419T184957
CREATED:20260209T125146Z
LAST-MODIFIED:20260209T131623Z
UID:24533-1770626700-1770631200@www.tableviewbaptist.co.za
SUMMARY:Street Evangelism Ministry
DESCRIPTION:Join our team who go out the first Saturday of the month to bring Jesus to those on the streets in Parklands. \nThey meet at 8:45 am in the MacDonalds Parking lot in Parklands.
URL:http://www.tableviewbaptist.co.za/event/street-evangelism-ministry/
END:VEVENT
BEGIN:VEVENT
DTSTART;TZID=Europe/Helsinki:20260214T090000
DTEND;TZID=Europe/Helsinki:20260214T110000
DTSTAMP:20260419T184957
CREATED:20260209T121806Z
LAST-MODIFIED:20260209T121806Z
UID:24528-1771059600-1771066800@www.tableviewbaptist.co.za
SUMMARY:Membership Orientation
DESCRIPTION:An orientation meeting for those looking into become a member of Table View Baptist Church.  Attending one of these meetings is crucial for your membership application but it does not mean that you are committing to become a member if you attend. \n 
URL:http://www.tableviewbaptist.co.za/event/membership-orientation-2/
LOCATION:Church Hall\, 9 Duiker Crescent\, Cape Town\, 7441\, South Africa
CATEGORIES:Modern Church
END:VEVENT
BEGIN:VEVENT
DTSTART;TZID=Europe/Helsinki:20260215T075000
DTEND;TZID=Europe/Helsinki:20260215T085000
DTSTAMP:20260419T184957
CREATED:20260209T122222Z
LAST-MODIFIED:20260209T122222Z
UID:24531-1771141800-1771145400@www.tableviewbaptist.co.za
SUMMARY:Prayer Meeting
DESCRIPTION:Meet in the front classroom with our prayer warriors.
URL:http://www.tableviewbaptist.co.za/event/prayer-meeting/
CATEGORIES:Prayer
ATTACH;FMTTYPE=image/jpeg:http://www.tableviewbaptist.co.za/wp-content/uploads/2025/06/rawpixel-769319-unsplash-scaled.jpg
END:VEVENT
END:VCALENDAR